BEGIN:VCALENDAR
VERSION:2.0
PRODID:-//Bridge City,Texas - ECPv6.15.20//NONSGML v1.0//EN
CALSCALE:GREGORIAN
METHOD:PUBLISH
X-WR-CALNAME:Bridge City,Texas
X-ORIGINAL-URL:https://www.visitbridgecity.com
X-WR-CALDESC:Events for Bridge City,Texas
REFRESH-INTERVAL;VALUE=DURATION:PT1H
X-Robots-Tag:noindex
X-PUBLISHED-TTL:PT1H
BEGIN:VTIMEZONE
TZID:UTC
BEGIN:STANDARD
TZOFFSETFROM:+0000
TZOFFSETTO:+0000
TZNAME:UTC
DTSTART:20240101T000000
END:STANDARD
END:VTIMEZONE
BEGIN:VEVENT
DTSTART;VALUE=DATE:20250909
DTEND;VALUE=DATE:20250910
DTSTAMP:20260424T220350
CREATED:20250422T180756Z
LAST-MODIFIED:20250422T180756Z
UID:488-1757376000-1757462399@www.visitbridgecity.com
SUMMARY:Networking Coffee Events -  Cole Plumbing @ Community Center
DESCRIPTION:
URL:https://www.visitbridgecity.com/event/networking-coffee-events-cole-plumbing-community-center/
END:VEVENT
END:VCALENDAR