BEGIN:VCALENDAR
VERSION:2.0
PRODID:-//Bridge City,Texas - ECPv6.15.20//NONSGML v1.0//EN
CALSCALE:GREGORIAN
METHOD:PUBLISH
X-ORIGINAL-URL:https://www.visitbridgecity.com
X-WR-CALDESC:Events for Bridge City,Texas
REFRESH-INTERVAL;VALUE=DURATION:PT1H
X-Robots-Tag:noindex
X-PUBLISHED-TTL:PT1H
BEGIN:VTIMEZONE
TZID:UTC
BEGIN:STANDARD
TZOFFSETFROM:+0000
TZOFFSETTO:+0000
TZNAME:UTC
DTSTART:20240101T000000
END:STANDARD
END:VTIMEZONE
BEGIN:VEVENT
DTSTART;TZID=UTC:20250712T170000
DTEND;TZID=UTC:20250712T200000
DTSTAMP:20260425T014315
CREATED:20250701T155926Z
LAST-MODIFIED:20250701T160002Z
UID:572-1752339600-1752350400@www.visitbridgecity.com
SUMMARY:NIGHT AT THE MUSEUM & VISITOR CENTER
DESCRIPTION:Step into local history at our FREE Night at the Museum & Visitor Center! Explore fascinating room tours\, enjoy delicious food\, and groove to music in a fun\, welcoming atmosphere. Special highlight: from 6–7 PM\, meet author Charlotte Chiasson for a book signing of “The History of Prairie View Bridge City.” Don’t miss your chance to celebrate Bridge City’s heritage\, connect with neighbors\, and experience a unique evening at the museum!
URL:https://www.visitbridgecity.com/event/night-at-the-museum-visitor-center/
LOCATION:Bridge City Historical Museum & Visitor Center\, 150 W. Round Bunch Rd\, Bridge City\, TX 77611\, Bridge City\, TX 77611
ATTACH;FMTTYPE=image/png:https://www.visitbridgecity.com/wp-content/uploads/2025/07/A-Night-at-the-Museum.png
END:VEVENT
BEGIN:VEVENT
DTSTART;VALUE=DATE:20250708
DTEND;VALUE=DATE:20250709
DTSTAMP:20260425T014315
CREATED:20250422T151845Z
LAST-MODIFIED:20250422T151845Z
UID:480-1751932800-1752019199@www.visitbridgecity.com
SUMMARY:Networking Coffee Events - Tower Medical
DESCRIPTION:
URL:https://www.visitbridgecity.com/event/networking-coffee-events-tower-medical/
END:VEVENT
BEGIN:VEVENT
DTSTART;VALUE=DATE:20250627
DTEND;VALUE=DATE:20250629
DTSTAMP:20260425T014315
CREATED:20250421T082036Z
LAST-MODIFIED:20250701T155844Z
UID:428-1750982400-1751155199@www.visitbridgecity.com
SUMMARY:Red\, White and You Celebration
DESCRIPTION:June 27th -28th\, 2025\n(At BC Community Center)\nClick Here Purchase Tickets
URL:https://www.visitbridgecity.com/event/red-white-and-you-celebration/
ATTACH;FMTTYPE=image/webp:https://www.visitbridgecity.com/wp-content/uploads/2025/04/440777477_7568354613223503_2573367928313192271_n.webp
END:VEVENT
BEGIN:VEVENT
DTSTART;VALUE=DATE:20250610
DTEND;VALUE=DATE:20250611
DTSTAMP:20260425T014315
CREATED:20250422T151719Z
LAST-MODIFIED:20250422T151719Z
UID:479-1749513600-1749599999@www.visitbridgecity.com
SUMMARY:Networking Coffee Events - Neches Federal Credit Union
DESCRIPTION:
URL:https://www.visitbridgecity.com/event/networking-coffee-events-neches-federal-credit-union/
END:VEVENT
BEGIN:VEVENT
DTSTART;TZID=UTC:20250601T080000
DTEND;TZID=UTC:20250630T170000
DTSTAMP:20260425T014315
CREATED:20250421T185910Z
LAST-MODIFIED:20250424T140404Z
UID:439-1748764800-1751302800@www.visitbridgecity.com
SUMMARY:Father of the Year
DESCRIPTION:June 2025
URL:https://www.visitbridgecity.com/event/father-of-the-year/
END:VEVENT
BEGIN:VEVENT
DTSTART;VALUE=DATE:20250513
DTEND;VALUE=DATE:20250514
DTSTAMP:20260425T014315
CREATED:20250422T151611Z
LAST-MODIFIED:20250422T151611Z
UID:478-1747094400-1747180799@www.visitbridgecity.com
SUMMARY:Networking Coffee Events - YMCA @ Good Shepherd Lutheran Church
DESCRIPTION:
URL:https://www.visitbridgecity.com/event/networking-coffee-events-ymca-good-shepherd-lutheran-church/
END:VEVENT
BEGIN:VEVENT
DTSTART;TZID=UTC:20250501T080000
DTEND;TZID=UTC:20250531T170000
DTSTAMP:20260425T014315
CREATED:20250421T190139Z
LAST-MODIFIED:20250424T133855Z
UID:440-1746086400-1748710800@www.visitbridgecity.com
SUMMARY:6 Scholarships
DESCRIPTION:3 Bridge City Seniors \n\n\n3 Orangefield Seniors \n\n\nMay 2025
URL:https://www.visitbridgecity.com/event/6-scholarships/
END:VEVENT
BEGIN:VEVENT
DTSTART;TZID=UTC:20250501T080000
DTEND;TZID=UTC:20250501T170000
DTSTAMP:20260425T014315
CREATED:20250421T185644Z
LAST-MODIFIED:20250425T144055Z
UID:438-1746086400-1746118800@www.visitbridgecity.com
SUMMARY:Mother of the Year
DESCRIPTION:
URL:https://www.visitbridgecity.com/event/mother-of-the-year/
LOCATION:BC Intermediate School
END:VEVENT
BEGIN:VEVENT
DTSTART;VALUE=DATE:20250424
DTEND;VALUE=DATE:20250425
DTSTAMP:20260425T014315
CREATED:20250421T185459Z
LAST-MODIFIED:20250505T152657Z
UID:437-1745452800-1745539199@www.visitbridgecity.com
SUMMARY:Taste of the Bayou
DESCRIPTION:Join us for a great evening full of cajun music by Cajun Harmony Band and local food vendors. You don’t want to miss Taste of the Bayou!
URL:https://www.visitbridgecity.com/event/taste-of-the-bayou/
ATTACH;FMTTYPE=image/webp:https://www.visitbridgecity.com/wp-content/uploads/2025/03/Food-copy.webp
END:VEVENT
BEGIN:VEVENT
DTSTART;VALUE=DATE:20250412
DTEND;VALUE=DATE:20250413
DTSTAMP:20260425T014315
CREATED:20250421T081444Z
LAST-MODIFIED:20250421T081444Z
UID:426-1744416000-1744502399@www.visitbridgecity.com
SUMMARY:Rotary Club Bunny Run
DESCRIPTION:April 12\, 2025 (At BC Intermediate School)
URL:https://www.visitbridgecity.com/event/rotary-club-bunny-run/
LOCATION:BC Intermediate School
END:VEVENT
BEGIN:VEVENT
DTSTART;VALUE=DATE:20250408
DTEND;VALUE=DATE:20250409
DTSTAMP:20260425T014315
CREATED:20250422T151504Z
LAST-MODIFIED:20250422T151504Z
UID:477-1744070400-1744156799@www.visitbridgecity.com
SUMMARY:Networking Coffee Events - LBS BBQ
DESCRIPTION:
URL:https://www.visitbridgecity.com/event/networking-coffee-events-lbs-bbq/
END:VEVENT
BEGIN:VEVENT
DTSTART;VALUE=DATE:20250311
DTEND;VALUE=DATE:20250312
DTSTAMP:20260425T014315
CREATED:20250422T150553Z
LAST-MODIFIED:20250422T150553Z
UID:476-1741651200-1741737599@www.visitbridgecity.com
SUMMARY:Networking Coffee Events - Crawfish Hole
DESCRIPTION:
URL:https://www.visitbridgecity.com/event/networking-coffee-events-crawfish-hole/
END:VEVENT
BEGIN:VEVENT
DTSTART;VALUE=DATE:20250211
DTEND;VALUE=DATE:20250212
DTSTAMP:20260425T014315
CREATED:20250422T150418Z
LAST-MODIFIED:20250422T150418Z
UID:475-1739232000-1739318399@www.visitbridgecity.com
SUMMARY:Networking Coffee Events - Olson Engineering
DESCRIPTION:
URL:https://www.visitbridgecity.com/event/networking-coffee-events-olson-engineering/
END:VEVENT
BEGIN:VEVENT
DTSTART;VALUE=DATE:20250114
DTEND;VALUE=DATE:20250115
DTSTAMP:20260425T014315
CREATED:20250422T150024Z
LAST-MODIFIED:20250422T150247Z
UID:474-1736812800-1736899199@www.visitbridgecity.com
SUMMARY:Networking Coffee Events -  OFHS Cormier Museum
DESCRIPTION:
URL:https://www.visitbridgecity.com/event/networking-coffee-events-ofhs-cormier-museum/
END:VEVENT
END:VCALENDAR